BEGIN:VCALENDAR
VERSION:2.0
PRODID:-//zInspector - ECPv6.15.20//NONSGML v1.0//EN
CALSCALE:GREGORIAN
METHOD:PUBLISH
X-WR-CALNAME:zInspector
X-ORIGINAL-URL:https://zinspector.com
X-WR-CALDESC:Events for zInspector
REFRESH-INTERVAL;VALUE=DURATION:PT1H
X-Robots-Tag:noindex
X-PUBLISHED-TTL:PT1H
BEGIN:VTIMEZONE
TZID:UTC
BEGIN:STANDARD
TZOFFSETFROM:+0000
TZOFFSETTO:+0000
TZNAME:UTC
DTSTART:20220101T000000
END:STANDARD
END:VTIMEZONE
BEGIN:VEVENT
DTSTART;VALUE=DATE:20240328
DTEND;VALUE=DATE:20240330
DTSTAMP:20260422T090031
CREATED:20240508T220655Z
LAST-MODIFIED:20240508T221036Z
UID:4097-1711584000-1711756799@zinspector.com
SUMMARY:NARPM California State Conference 2024
DESCRIPTION:CALNARPM’s objective is professionalism and development of all California property managers. \nEducation\nGrow your business by learning from the top minds & entrepreneurs in the industry and beyond. \n  \n\n\n\n\n\n\nNetworking\nNetwork with your peers and discover new ways to solve common problems and find mentors. \n\n\n\n\n\n\n\n\n\n\n\n\n\n\n\n\n\n\n\nLegislation\nAnticipate how local and national laws will affect your business now and in the future.
URL:https://zinspector.com/event/narpm-california-state-conference-2024/
LOCATION:The Meritage Resort and Spa\, 875 Bordeaux Way\, Napa\, CA\, 94558\, United States
CATEGORIES:NARPM,past
ATTACH;FMTTYPE=image/png:https://zinspector.com/wp-content/uploads/2024/05/Featured-Images-2024-NARPM-California.png
END:VEVENT
BEGIN:VEVENT
DTSTART;VALUE=DATE:20240213
DTEND;VALUE=DATE:20240216
DTSTAMP:20260422T090031
CREATED:20240508T182550Z
LAST-MODIFIED:20240508T182620Z
UID:4093-1707782400-1708041599@zinspector.com
SUMMARY:NARPM Capitol Summit 2024
DESCRIPTION:Welcome to the Capitol Summit\, where the excitement never stops and energy is off the charts! Get ready for a conference like no other as we gather in the heart of the nation’s capital\, Washington\, D.C.\, for the National Association of Residential Property Managers (NARPM®) extravaganza! \nPicture this: The sun is rising over the iconic monuments\, and a sea of property management professionals from across the country is descending upon the city\, all with one goal in mind—to supercharge their property management prowess! Welcome to the ultimate educational experience\, where we’re not just setting the bar\, we’re raising the roof! \nThis isn’t just a conference; it’s a brainstorming extravaganza. Network with fellow property management pros\, swap success stories and brainstorm innovative ideas that will send shockwaves through your business. Who knows? You might just stumble upon the next big property management breakthrough while sipping coffee in our collaborative lounge. Expect lively debates\, inspiring keynotes and late-night networking events that’ll have you dancing until dawn.
URL:https://zinspector.com/event/narpm-capitol-summit-2024/
LOCATION:The Madison Hotel\, 1177 15th Street NW\, Washington\, DC\, 20005\, United States
CATEGORIES:past
ATTACH;FMTTYPE=image/png:https://zinspector.com/wp-content/uploads/2024/05/Featured-Images-2024-Capitol-Summit.png
END:VEVENT
BEGIN:VEVENT
DTSTART;VALUE=DATE:20240123
DTEND;VALUE=DATE:20240127
DTSTAMP:20260422T090031
CREATED:20230802T171847Z
LAST-MODIFIED:20240508T163937Z
UID:4056-1705968000-1706313599@zinspector.com
SUMMARY:PM Systems Workshop
DESCRIPTION:The Systems Workshop is designed to provide practical tips for developing efficient and effective business processes. If improving your current systems is a business priority\, this is the conference for you! \nThis is a “Hands On” Conference and there will be opportunities for attendees to: \n\nParticipate in peer group sessions where members share steps and content used to develop their current processes.\nReceive analysis of a current process from conference consultant.\nUtilize learned information to develop a typical property management process.\n\nzInspector is excited to be attending the PM Systems Workshop. See you there!
URL:https://zinspector.com/event/pm-systems-workshop-2023/
LOCATION:Sun Coast Hotel and Casino\, 9090 Alta Dr\, Las Vegas\, NV\, 89145\, United States
CATEGORIES:past
ATTACH;FMTTYPE=image/jpeg:https://zinspector.com/wp-content/uploads/2023/08/Featured-Image-PM-Systems-Workshop.jpg
END:VEVENT
BEGIN:VEVENT
DTSTART;VALUE=DATE:20231023
DTEND;VALUE=DATE:20231027
DTSTAMP:20260422T090031
CREATED:20230801T224008Z
LAST-MODIFIED:20240125T221339Z
UID:4052-1698019200-1698364799@zinspector.com
SUMMARY:Rent Manager User Conference
DESCRIPTION:
URL:https://zinspector.com/event/rent-manager-user-conference/
LOCATION:Hilton Anatole\, 2201 N Stemmons Freeway\, Dallas\, TX\, 75207\, United States
CATEGORIES:past
ATTACH;FMTTYPE=image/jpeg:https://zinspector.com/wp-content/uploads/2023/08/Featured-Image-Rent-Manager-User-Conference.jpg
END:VEVENT
BEGIN:VEVENT
DTSTART;VALUE=DATE:20231016
DTEND;VALUE=DATE:20231020
DTSTAMP:20260422T090031
CREATED:20230801T221723Z
LAST-MODIFIED:20240125T221148Z
UID:4049-1697414400-1697759999@zinspector.com
SUMMARY:NARPM Annual Convention & Tradeshow
DESCRIPTION:
URL:https://zinspector.com/event/narpm-annual-convention-tradeshow/
LOCATION:Omni CNN Center\, 100 CNN Center\, Atlanta\, GA\, 30303\, United States
CATEGORIES:past
ATTACH;FMTTYPE=image/jpeg:https://zinspector.com/wp-content/uploads/2023/08/Featured-Image-NARPM-Annual.jpg
END:VEVENT
BEGIN:VEVENT
DTSTART;VALUE=DATE:20231014
DTEND;VALUE=DATE:20231020
DTSTAMP:20260422T090031
CREATED:20230801T171502Z
LAST-MODIFIED:20240125T221036Z
UID:4043-1697241600-1697759999@zinspector.com
SUMMARY:Neighborly® Reunion
DESCRIPTION:
URL:https://zinspector.com/event/neighborly-reunion/
LOCATION:Gaylord Rockies Resort & Convention Center\, 6700 N Gaylord Rockies Blvd\, Aurora\, CO\, 80019\, United States
CATEGORIES:past
ATTACH;FMTTYPE=image/jpeg:https://zinspector.com/wp-content/uploads/2023/08/Featured-Image-Neighborly-Reunion.jpg
END:VEVENT
BEGIN:VEVENT
DTSTART;VALUE=DATE:20230919
DTEND;VALUE=DATE:20230923
DTSTAMP:20260422T090031
CREATED:20230801T161428Z
LAST-MODIFIED:20240125T215855Z
UID:4038-1695081600-1695427199@zinspector.com
SUMMARY:AppFolio Customer Conference
DESCRIPTION:
URL:https://zinspector.com/event/appfolio-customer-conference/
LOCATION:Hilton Santa Barbara Beachfront Resort\, 633 E Cabrillo Blvd\, Santa Barbara\, CA\, 93103\, United States
CATEGORIES:past
ATTACH;FMTTYPE=image/jpeg:https://zinspector.com/wp-content/uploads/2023/08/Featured-Image-AppFolio-Customer-Conference.jpg
END:VEVENT
BEGIN:VEVENT
DTSTART;VALUE=DATE:20230905
DTEND;VALUE=DATE:20230908
DTSTAMP:20260422T090031
CREATED:20230725T171225Z
LAST-MODIFIED:20240125T215823Z
UID:4033-1693872000-1694131199@zinspector.com
SUMMARY:NARPM Florida Conference
DESCRIPTION:
URL:https://zinspector.com/event/narpm-florida-conference/
LOCATION:Rosen Plaza Hotel\, 9700 International Dr\, Orlando\, FL\, 32819\, United States
CATEGORIES:past
ATTACH;FMTTYPE=image/jpeg:https://zinspector.com/wp-content/uploads/2023/07/Featured-Image-NARPM-Florida.jpg
END:VEVENT
BEGIN:VEVENT
DTSTART;VALUE=DATE:20230607
DTEND;VALUE=DATE:20230610
DTSTAMP:20260422T090031
CREATED:20230302T043432Z
LAST-MODIFIED:20230725T172320Z
UID:3969-1686096000-1686355199@zinspector.com
SUMMARY:NAA Apartmentalize
DESCRIPTION:Atlanta will be the hub of the rental housing industry when we all come together to connect\, share ideas and find solutions at Apartmentalize. \nCome ready to be inspired\, gain knowledge and build a network of innovative thinkers and strategists. Meet you there!
URL:https://zinspector.com/event/naa-apartmentalize/
LOCATION:Atlanta\, Atlanta\, GA\, 30313\, United States
CATEGORIES:past
ATTACH;FMTTYPE=image/jpeg:https://zinspector.com/wp-content/uploads/2023/03/Featured-Image-Events-2.jpg
END:VEVENT
BEGIN:VEVENT
DTSTART;VALUE=DATE:20230517
DTEND;VALUE=DATE:20230520
DTSTAMP:20260422T090031
CREATED:20230302T040551Z
LAST-MODIFIED:20230725T172255Z
UID:3967-1684281600-1684540799@zinspector.com
SUMMARY:NARPM California State Conference
DESCRIPTION:Join your fellow NARPM® members from around the State of California for networking\, education\, workshops\, CA legislative and compliance updates\, great guest speakers\, and much more. \nAt the CALNARPM Conference & Tradeshow you will learn how to run your business successfully in the unique regulatory and challenging business environment Property Managers encounter while operating in the State of California.
URL:https://zinspector.com/event/narpm-california-state-conference/
LOCATION:DC
CATEGORIES:past
ATTACH;FMTTYPE=image/jpeg:https://zinspector.com/wp-content/uploads/2023/03/Featured-Image-Events-1.jpg
END:VEVENT
BEGIN:VEVENT
DTSTART;VALUE=DATE:20230425
DTEND;VALUE=DATE:20230428
DTSTAMP:20260422T090031
CREATED:20221213T153451Z
LAST-MODIFIED:20230725T172005Z
UID:3884-1682380800-1682639999@zinspector.com
SUMMARY:NARPM Broker/Owner Conference
DESCRIPTION:The most anticipated event in residential property management returns in the spring of 2023.\nThe 2023 Broker/Owner Conference & Expo\, will be held at the Omni La Costa Resort & Spa in Carlsbad\, CA. You can’t put a price on proven solutions that arm you with the information you need to make important decision in your business.
URL:https://zinspector.com/event/narpm-broker-owner-conference/
LOCATION:Omni La Costa Resort & Spa\, 2100 Costa Del Mar Rd.\, Carlsbad\, CA\, 78251\, United States
CATEGORIES:past
ATTACH;FMTTYPE=image/jpeg:https://zinspector.com/wp-content/uploads/2022/12/Featured-Image-Events.jpg
END:VEVENT
BEGIN:VEVENT
DTSTART;VALUE=DATE:20230329
DTEND;VALUE=DATE:20230401
DTSTAMP:20260422T090031
CREATED:20230301T221930Z
LAST-MODIFIED:20230725T171659Z
UID:3962-1680048000-1680307199@zinspector.com
SUMMARY:PMM Conference & Show
DESCRIPTION:A Conference by Property Managers for Property Managers \n\n\n\n\nIn creating the conference format\, building in the “Mastermind” concept was the priority. The small group interaction with like minded peers in the management industry creates an opportunity for sharing ideas\, learning best practices\, and deciding on what really works. Networking is the number one reason people want to attend in person events. \nAll of the interaction with the vendors\, the breakouts\, and the closing ceremony are tailor made to foster the absolute best conference environment possible. \nPut this in your schedule to attend every year!
URL:https://zinspector.com/event/pmm-conference-show/
LOCATION:Grand Hyatt Nashville\, Nashville\, TN\, United States
CATEGORIES:past
ATTACH;FMTTYPE=image/jpeg:https://zinspector.com/wp-content/uploads/2023/03/Featured-Image-PMMCON.jpg
END:VEVENT
END:VCALENDAR